BEGIN:VCALENDAR
VERSION:2.0
PRODID:-//Community Tech - ECPv6.2.2//NONSGML v1.0//EN
CALSCALE:GREGORIAN
METHOD:PUBLISH
X-WR-CALNAME:Community Tech
X-ORIGINAL-URL:https://communitytechnet.com
X-WR-CALDESC:Events for Community Tech
REFRESH-INTERVAL;VALUE=DURATION:PT1H
X-Robots-Tag:noindex
X-PUBLISHED-TTL:PT1H
BEGIN:VTIMEZONE
TZID:UTC
BEGIN:STANDARD
TZOFFSETFROM:+0000
TZOFFSETTO:+0000
TZNAME:UTC
DTSTART:20250101T000000
END:STANDARD
END:VTIMEZONE
BEGIN:VEVENT
DTSTART;TZID=UTC:20250129T100000
DTEND;TZID=UTC:20250209T180000
DTSTAMP:20260421T023257
CREATED:20250115T165145Z
LAST-MODIFIED:20250115T171045Z
UID:2023-1738144800-1739124000@communitytechnet.com
SUMMARY:TurboTech
DESCRIPTION:Don’t miss this one-of-a-kind event that merges technology\, fun\, and career exploration! Compete against fellow gamers\, win amazing prizes\, and unlock your potential for a future in automotive technology. This event is FREE\, but spots are limited—register now to secure your place.
URL:https://communitytechnet.com/event/turbotech/
LOCATION:Location\, 801 Mount Vernon Place\, Washington\, DC\, 20001\, United States
END:VEVENT
END:VCALENDAR