BEGIN:VCALENDAR
VERSION:2.0
PRODID:-//Community Tech - ECPv6.2.2//NONSGML v1.0//EN
CALSCALE:GREGORIAN
METHOD:PUBLISH
X-WR-CALNAME:Community Tech
X-ORIGINAL-URL:https://communitytechnet.com
X-WR-CALDESC:Events for Community Tech
REFRESH-INTERVAL;VALUE=DURATION:PT1H
X-Robots-Tag:noindex
X-PUBLISHED-TTL:PT1H
BEGIN:VTIMEZONE
TZID:UTC
BEGIN:STANDARD
TZOFFSETFROM:+0000
TZOFFSETTO:+0000
TZNAME:UTC
DTSTART:20230101T000000
END:STANDARD
END:VTIMEZONE
BEGIN:VEVENT
DTSTART;VALUE=DATE:20240109
DTEND;VALUE=DATE:20240121
DTSTAMP:20260421T023931
CREATED:20220907T141319Z
LAST-MODIFIED:20231115T115924Z
UID:1157-1704758400-1705795199@communitytechnet.com
SUMMARY:Teaching Skills Masterclasses
DESCRIPTION:Etiam vitae leo et diam pellentesque porta. Sed eleifend ultricies risus\, vel rutrum erat commodo ut. Praesent finibus congue euismod. Nullam scelerisque massa vel augue placerat\, a tempor sem egestas. Curabitur placerat finibus lacus. Quisque at vehicula magna\, quis fringilla sapien. Ut interdum dictum ultricies. Aliquam facilisis purus non dui scelerisque\, bibendum vestibulum risus fermentum. Nam eget efficitur felis. Sed sollicitudin justo ut libero viverra\, sed efficitur erat finibus. Mauris nunc neque\, elementum id dignissim ut\, posuere sit amet dolor. Aliquam turpis neque\, mollis eu pharetra et\, placerat et arcu. Proin orci eros\, dapibus in auctor ac\, elementum a justo. Fusce varius eu nunc iaculis auctor. \nVivamus posuere tellus ac fringilla maximus. Maecenas ut diam nibh. Suspendisse venenatis et dolor sit amet malesuada. Cras a nisl in purus vestibulum facilisis. Aenean blandit\, lectus in dapibus interdum\, magna mauris fermentum risus\, nec iaculis ex quam ultricies tellus. Sed nec convallis ex\, nec tristique nisi. Aenean semper tempor vehicula. Duis id mi tristique\, pulvinar neque at\, lobortis tortor.
URL:https://communitytechnet.com/event/teaching-skills-masterclasses/
LOCATION:Location\, 801 Mount Vernon Place\, Washington\, DC\, 20001\, United States
CATEGORIES:Events
ATTACH;FMTTYPE=image/jpeg:https://communitytechnet.com/wp-content/uploads/2017/02/post-8.jpg
ORGANIZER;CN="Mark Chapman":MAILTO:info@communitytechnet.com
END:VEVENT
BEGIN:VEVENT
DTSTART;TZID=UTC:20231205T100000
DTEND;TZID=UTC:20231205T120000
DTSTAMP:20260421T023931
CREATED:20220907T140711Z
LAST-MODIFIED:20231115T115437Z
UID:1147-1701770400-1701777600@communitytechnet.com
SUMMARY:Sip & Print
DESCRIPTION:Taste your favorite wine while learning to design dynamic images ready to print.  This new alternative substitutes the old going-to-the-mall plan or another movie night with your buddies.
URL:https://communitytechnet.com/event/leadership-academy-for-administrators/
LOCATION:Location\, 801 Mount Vernon Place\, Washington\, DC\, 20001\, United States
CATEGORIES:Home
ATTACH;FMTTYPE=image/png:https://communitytechnet.com/wp-content/uploads/2022/09/ink_drop_wht_23_1.fw_.png
ORGANIZER;CN="Mark Chapman":MAILTO:info@communitytechnet.com
END:VEVENT
BEGIN:VEVENT
DTSTART;VALUE=DATE:20230207
DTEND;VALUE=DATE:20230218
DTSTAMP:20260421T023931
CREATED:20220907T141145Z
LAST-MODIFIED:20230322T053511Z
UID:1154-1675728000-1676678399@communitytechnet.com
SUMMARY:Harvard Faculty Club
DESCRIPTION:Etiam vitae leo et diam pellentesque porta. Sed eleifend ultricies risus\, vel rutrum erat commodo ut. Praesent finibus congue euismod. Nullam scelerisque massa vel augue placerat\, a tempor sem egestas. Curabitur placerat finibus lacus. Quisque at vehicula magna\, quis fringilla sapien. Ut interdum dictum ultricies. Aliquam facilisis purus non dui scelerisque\, bibendum vestibulum risus fermentum. Nam eget efficitur felis. Sed sollicitudin justo ut libero viverra\, sed efficitur erat finibus. Mauris nunc neque\, elementum id dignissim ut\, posuere sit amet dolor. Aliquam turpis neque\, mollis eu pharetra et\, placerat et arcu. Proin orci eros\, dapibus in auctor ac\, elementum a justo. Fusce varius eu nunc iaculis auctor. \nVivamus posuere tellus ac fringilla maximus. Maecenas ut diam nibh. Suspendisse venenatis et dolor sit amet malesuada. Cras a nisl in purus vestibulum facilisis. Aenean blandit\, lectus in dapibus interdum\, magna mauris fermentum risus\, nec iaculis ex quam ultricies tellus. Sed nec convallis ex\, nec tristique nisi. Aenean semper tempor vehicula. Duis id mi tristique\, pulvinar neque at\, lobortis tortor.
URL:https://communitytechnet.com/event/harvard-faculty-club/
LOCATION:Location\, 801 Mount Vernon Place\, Washington\, DC\, 20001\, United States
CATEGORIES:Events
ATTACH;FMTTYPE=image/jpeg:https://communitytechnet.com/wp-content/uploads/2017/02/post-10.jpg
END:VEVENT
END:VCALENDAR